BEGIN:VCALENDAR
VERSION:2.0
PRODID:-//OMARA - ECPv6.15.20//NONSGML v1.0//EN
CALSCALE:GREGORIAN
METHOD:PUBLISH
X-WR-CALNAME:OMARA
X-ORIGINAL-URL:https://go2omara.com
X-WR-CALDESC:Events for OMARA
REFRESH-INTERVAL;VALUE=DURATION:PT1H
X-Robots-Tag:noindex
X-PUBLISHED-TTL:PT1H
BEGIN:VTIMEZONE
TZID:America/New_York
BEGIN:DAYLIGHT
TZOFFSETFROM:-0500
TZOFFSETTO:-0400
TZNAME:EDT
DTSTART:20240310T070000
END:DAYLIGHT
BEGIN:STANDARD
TZOFFSETFROM:-0400
TZOFFSETTO:-0500
TZNAME:EST
DTSTART:20241103T060000
END:STANDARD
BEGIN:DAYLIGHT
TZOFFSETFROM:-0500
TZOFFSETTO:-0400
TZNAME:EDT
DTSTART:20250309T070000
END:DAYLIGHT
BEGIN:STANDARD
TZOFFSETFROM:-0400
TZOFFSETTO:-0500
TZNAME:EST
DTSTART:20251102T060000
END:STANDARD
BEGIN:DAYLIGHT
TZOFFSETFROM:-0500
TZOFFSETTO:-0400
TZNAME:EDT
DTSTART:20260308T070000
END:DAYLIGHT
BEGIN:STANDARD
TZOFFSETFROM:-0400
TZOFFSETTO:-0500
TZNAME:EST
DTSTART:20261101T060000
END:STANDARD
END:VTIMEZONE
BEGIN:VEVENT
DTSTART;TZID=America/New_York:20251115T050000
DTEND;TZID=America/New_York:20251115T100000
DTSTAMP:20260423T194628
CREATED:20250925T050007Z
LAST-MODIFIED:20250925T050222Z
UID:901-1763182800-1763200800@go2omara.com
SUMMARY:Ski and Snowboard Swap Consignment Equipment Drop Off
DESCRIPTION:
URL:https://go2omara.com/event/ski-and-snowboard-swap-consignment-equipment-drop-off/
LOCATION:Round House at the Jackson Gore Inn\, 111 Jackson Gore Road\, Ludlow\, VT\, 05149
END:VEVENT
BEGIN:VEVENT
DTSTART;TZID=America/New_York:20251116T050000
DTEND;TZID=America/New_York:20251116T100000
DTSTAMP:20260423T194628
CREATED:20250925T051014Z
LAST-MODIFIED:20250925T051014Z
UID:905-1763269200-1763287200@go2omara.com
SUMMARY:Ski and Snowboard Swap Consignment Equipment Drop Off
DESCRIPTION:
URL:https://go2omara.com/event/ski-and-snowboard-swap-consignment-equipment-drop-off-2/
LOCATION:Round House at the Jackson Gore Inn\, 111 Jackson Gore Road\, Ludlow\, VT\, 05149
END:VEVENT
BEGIN:VEVENT
DTSTART;TZID=America/New_York:20251119T050000
DTEND;TZID=America/New_York:20251119T100000
DTSTAMP:20260423T194628
CREATED:20250925T051058Z
LAST-MODIFIED:20250925T051058Z
UID:907-1763528400-1763546400@go2omara.com
SUMMARY:Ski and Snowboard Swap Consignment Equipment Drop Off
DESCRIPTION:
URL:https://go2omara.com/event/ski-and-snowboard-swap-consignment-equipment-drop-off-3/
LOCATION:Round House at the Jackson Gore Inn\, 111 Jackson Gore Road\, Ludlow\, VT\, 05149
END:VEVENT
BEGIN:VEVENT
DTSTART;TZID=America/New_York:20251121T110000
DTEND;TZID=America/New_York:20251121T140000
DTSTAMP:20260423T194628
CREATED:20250925T051324Z
LAST-MODIFIED:20250925T145217Z
UID:910-1763722800-1763733600@go2omara.com
SUMMARY:Ski and Snowboard Swap
DESCRIPTION:
URL:https://go2omara.com/event/ski-and-snowboard-swap/
LOCATION:Round House at the Jackson Gore Inn\, 111 Jackson Gore Road\, Ludlow\, VT\, 05149
END:VEVENT
BEGIN:VEVENT
DTSTART;TZID=America/New_York:20251122T040000
DTEND;TZID=America/New_York:20251122T120000
DTSTAMP:20260423T194628
CREATED:20250925T051438Z
LAST-MODIFIED:20250925T145245Z
UID:912-1763784000-1763812800@go2omara.com
SUMMARY:Ski and Snowboard Swap
DESCRIPTION:
URL:https://go2omara.com/event/ski-and-snowboard-swap-2/
LOCATION:Round House at the Jackson Gore Inn\, 111 Jackson Gore Road\, Ludlow\, VT\, 05149
END:VEVENT
BEGIN:VEVENT
DTSTART;TZID=America/New_York:20251123T040000
DTEND;TZID=America/New_York:20251123T080000
DTSTAMP:20260423T194628
CREATED:20250925T051511Z
LAST-MODIFIED:20250925T145312Z
UID:914-1763870400-1763884800@go2omara.com
SUMMARY:Ski and Snowboard Swap
DESCRIPTION:
URL:https://go2omara.com/event/ski-and-snowboard-swap-3/
LOCATION:Round House at the Jackson Gore Inn\, 111 Jackson Gore Road\, Ludlow\, VT\, 05149
END:VEVENT
END:VCALENDAR