BEGIN:VCALENDAR
VERSION:2.0
PRODID:-//OMARA - ECPv6.15.20//NONSGML v1.0//EN
CALSCALE:GREGORIAN
METHOD:PUBLISH
X-ORIGINAL-URL:https://go2omara.com
X-WR-CALDESC:Events for OMARA
REFRESH-INTERVAL;VALUE=DURATION:PT1H
X-Robots-Tag:noindex
X-PUBLISHED-TTL:PT1H
BEGIN:VTIMEZONE
TZID:America/New_York
BEGIN:DAYLIGHT
TZOFFSETFROM:-0500
TZOFFSETTO:-0400
TZNAME:EDT
DTSTART:20240310T070000
END:DAYLIGHT
BEGIN:STANDARD
TZOFFSETFROM:-0400
TZOFFSETTO:-0500
TZNAME:EST
DTSTART:20241103T060000
END:STANDARD
BEGIN:DAYLIGHT
TZOFFSETFROM:-0500
TZOFFSETTO:-0400
TZNAME:EDT
DTSTART:20250309T070000
END:DAYLIGHT
BEGIN:STANDARD
TZOFFSETFROM:-0400
TZOFFSETTO:-0500
TZNAME:EST
DTSTART:20251102T060000
END:STANDARD
BEGIN:DAYLIGHT
TZOFFSETFROM:-0500
TZOFFSETTO:-0400
TZNAME:EDT
DTSTART:20260308T070000
END:DAYLIGHT
BEGIN:STANDARD
TZOFFSETFROM:-0400
TZOFFSETTO:-0500
TZNAME:EST
DTSTART:20261101T060000
END:STANDARD
BEGIN:DAYLIGHT
TZOFFSETFROM:-0500
TZOFFSETTO:-0400
TZNAME:EDT
DTSTART:20270314T070000
END:DAYLIGHT
BEGIN:STANDARD
TZOFFSETFROM:-0400
TZOFFSETTO:-0500
TZNAME:EST
DTSTART:20271107T060000
END:STANDARD
END:VTIMEZONE
BEGIN:VEVENT
DTSTART;TZID=America/New_York:20251206T113000
DTEND;TZID=America/New_York:20251206T130000
DTSTAMP:20260423T193941
CREATED:20251205T213740Z
LAST-MODIFIED:20251205T214325Z
UID:929-1765020600-1765026000@go2omara.com
SUMMARY:Fireside Gathering
DESCRIPTION:
URL:https://go2omara.com/event/fireside-gathering/
LOCATION:Okemo Mountain School\, 53 Main Street\, Ludlow\, VT
END:VEVENT
BEGIN:VEVENT
DTSTART;TZID=America/New_York:20251213T103000
DTEND;TZID=America/New_York:20251213T120000
DTSTAMP:20260423T193941
CREATED:20251209T054437Z
LAST-MODIFIED:20251209T054635Z
UID:951-1765621800-1765627200@go2omara.com
SUMMARY:U12 Apres Hour
DESCRIPTION: U12 Ski Families — Let’s Kick Off the Season! Join us for our first U12 ski team event of the year this Saturday\, December 13th at 3:30 PM at the Bull in the Base Lodge!Bring the whole family and come hang out with other U12 racers and parents. OMARA will be providing light appetizers\, and this is the perfect chance for the kids to make early-season friendships and for families to connect before things get busy on the hill.Your U12 parent volunteers Steffany Poras Doolittle and Courtney McGuire will be there—come say hi!Let’s start the season strong. See you at the Bull! 
URL:https://go2omara.com/event/u12-apres-hour/
LOCATION:Bull in the Base Lodge
END:VEVENT
BEGIN:VEVENT
DTSTART;TZID=America/New_York:20260110T130000
DTEND;TZID=America/New_York:20260110T170000
DTSTAMP:20260423T193941
CREATED:20251206T093125Z
LAST-MODIFIED:20251206T094529Z
UID:937-1768050000-1768064400@go2omara.com
SUMMARY:Channel The Flannel
DESCRIPTION:
URL:https://go2omara.com/event/channel-the-flannel/
LOCATION:Round House at the Jackson Gore Inn\, 111 Jackson Gore Road\, Ludlow\, VT\, 05149
END:VEVENT
BEGIN:VEVENT
DTSTART;TZID=America/New_York:20260207T150000
DTEND;TZID=America/New_York:20260207T170000
DTSTAMP:20260423T193941
CREATED:20260120T233326Z
LAST-MODIFIED:20260205T123332Z
UID:969-1770476400-1770483600@go2omara.com
SUMMARY:Sitting Bull Après and Sock Drive
DESCRIPTION:Sponsored by William Raveis Vermont Properties
URL:https://go2omara.com/event/sitting-bull-apres-and-sock-drive/
LOCATION:Bull in the Base Lodge
ATTACH;FMTTYPE=image/jpeg:https://go2omara.com/wp-content/uploads/2026/01/2B97763B-476B-4F88-BE87-FDCAFC7E9B95.jpg
END:VEVENT
BEGIN:VEVENT
DTSTART;TZID=America/New_York:20260214T090000
DTEND;TZID=America/New_York:20260214T130000
DTSTAMP:20260423T193941
CREATED:20260120T234405Z
LAST-MODIFIED:20260205T123759Z
UID:965-1771059600-1771074000@go2omara.com
SUMMARY:Valentine’s Scavenger Hunt
DESCRIPTION:
URL:https://go2omara.com/event/valentines-scavenger-hunt/
END:VEVENT
BEGIN:VEVENT
DTSTART;TZID=America/New_York:20260214T190000
DTEND;TZID=America/New_York:20260214T220000
DTSTAMP:20260423T193941
CREATED:20260118T220352Z
LAST-MODIFIED:20260205T123712Z
UID:961-1771095600-1771106400@go2omara.com
SUMMARY:WinterFest @ Outer Limits Brewing
DESCRIPTION:
URL:https://go2omara.com/event/winterfest-outer-limits-brewing/
LOCATION:60 Village Green\, Proctorsville\, VT\, United States\, Vermont
ATTACH;FMTTYPE=image/jpeg:https://go2omara.com/wp-content/uploads/2026/01/Screenshot-2026-01-20-at-1.45.59-PM.jpeg
END:VEVENT
BEGIN:VEVENT
DTSTART;TZID=America/New_York:20260221T150000
DTEND;TZID=America/New_York:20260221T170000
DTSTAMP:20260423T193941
CREATED:20260219T005207Z
LAST-MODIFIED:20260219T005207Z
UID:983-1771686000-1771693200@go2omara.com
SUMMARY:OMFT Tailgate Party
DESCRIPTION:Join us Saturday\, 2/21\, from 3-5 pm\, in the Loft parking lot for an OMFT tailgate party. All are welcome. We’ll have pizza and s’mores by the fire! BYOB & chairs. Look for the OMS tent to find us! Text/call Miranda with any questions 802-952-8565
URL:https://go2omara.com/event/omft-tailgate-party/
LOCATION:Loft Parking Lot
ATTACH;FMTTYPE=image/png:https://go2omara.com/wp-content/uploads/2026/02/Screenshot-2026-02-18-at-5.47.09-PM.png
END:VEVENT
BEGIN:VEVENT
DTSTART;TZID=America/New_York:20260314T090000
DTEND;TZID=America/New_York:20260314T130000
DTSTAMP:20260423T193941
CREATED:20260120T234143Z
LAST-MODIFIED:20260205T123646Z
UID:967-1773478800-1773493200@go2omara.com
SUMMARY:St Patrick’s Scavenger Hunt
DESCRIPTION:
URL:https://go2omara.com/event/st-patricks-scavenger-hunt/
END:VEVENT
BEGIN:VEVENT
DTSTART;TZID=America/New_York:20260314T100000
DTEND;TZID=America/New_York:20260314T140000
DTSTAMP:20260423T193941
CREATED:20260121T000156Z
LAST-MODIFIED:20260205T123613Z
UID:977-1773482400-1773496800@go2omara.com
SUMMARY:Runs4Research Event - Ski runs:  NASTAR
DESCRIPTION:
URL:https://go2omara.com/event/runs4research-event-ski-runs-nastar/
END:VEVENT
BEGIN:VEVENT
DTSTART;TZID=America/New_York:20260314T150000
DTEND;TZID=America/New_York:20260314T170000
DTSTAMP:20260423T193941
CREATED:20260120T233126Z
LAST-MODIFIED:20260309T221108Z
UID:958-1773500400-1773507600@go2omara.com
SUMMARY:Sitting Bull Après
DESCRIPTION:Sponsored by Diamond Realty
URL:https://go2omara.com/event/sitting-bull-apres/
LOCATION:Bull in the Base Lodge
ATTACH;FMTTYPE=image/jpeg:https://go2omara.com/wp-content/uploads/2026/01/Rustic-Ski-Lodge-Poster-3.jpg
END:VEVENT
BEGIN:VEVENT
DTSTART;TZID=America/New_York:20260314T170000
DTEND;TZID=America/New_York:20260314T200000
DTSTAMP:20260423T193941
CREATED:20260121T000305Z
LAST-MODIFIED:20260205T123425Z
UID:979-1773507600-1773518400@go2omara.com
SUMMARY:Runs4Research Event - After race event: Calcutta's "The Barn"
DESCRIPTION:
URL:https://go2omara.com/event/runs4research-event-after-race-event-calcuttas-the-barn/
END:VEVENT
BEGIN:VEVENT
DTSTART;TZID=America/New_York:20260321T140000
DTEND;TZID=America/New_York:20260321T160000
DTSTAMP:20260423T193941
CREATED:20260319T170256Z
LAST-MODIFIED:20260319T170611Z
UID:993-1774101600-1774108800@go2omara.com
SUMMARY:Après Ski Devos
DESCRIPTION:Sponsored by OMARA
URL:https://go2omara.com/event/apres-devos/
LOCATION:Outside Patio The Bull
ATTACH;FMTTYPE=image/jpeg:https://go2omara.com/wp-content/uploads/2026/03/DEVOS.jpg
END:VEVENT
END:VCALENDAR